BEGIN:VCALENDAR
VERSION:2.0
PRODID:-//Plant Proteoform Diversity - ECPv6.15.16//NONSGML v1.0//EN
CALSCALE:GREGORIAN
METHOD:PUBLISH
X-ORIGINAL-URL:https://snp2prot.uni-halle.de
X-WR-CALDESC:Events for Plant Proteoform Diversity
REFRESH-INTERVAL;VALUE=DURATION:PT1H
X-Robots-Tag:noindex
X-PUBLISHED-TTL:PT1H
BEGIN:VTIMEZONE
TZID:Europe/Berlin
BEGIN:DAYLIGHT
TZOFFSETFROM:+0100
TZOFFSETTO:+0200
TZNAME:CEST
DTSTART:20240331T010000
END:DAYLIGHT
BEGIN:STANDARD
TZOFFSETFROM:+0200
TZOFFSETTO:+0100
TZNAME:CET
DTSTART:20241027T010000
END:STANDARD
BEGIN:DAYLIGHT
TZOFFSETFROM:+0100
TZOFFSETTO:+0200
TZNAME:CEST
DTSTART:20250330T010000
END:DAYLIGHT
BEGIN:STANDARD
TZOFFSETFROM:+0200
TZOFFSETTO:+0100
TZNAME:CET
DTSTART:20251026T010000
END:STANDARD
BEGIN:DAYLIGHT
TZOFFSETFROM:+0100
TZOFFSETTO:+0200
TZNAME:CEST
DTSTART:20260329T010000
END:DAYLIGHT
BEGIN:STANDARD
TZOFFSETFROM:+0200
TZOFFSETTO:+0100
TZNAME:CET
DTSTART:20261025T010000
END:STANDARD
END:VTIMEZONE
BEGIN:VEVENT
DTSTART;TZID=Europe/Berlin:20250704T170000
DTEND;TZID=Europe/Berlin:20250705T000000
DTSTAMP:20260423T142406
CREATED:20250624T143532Z
LAST-MODIFIED:20250730T123303Z
UID:1819-1751648400-1751673600@snp2prot.uni-halle.de
SUMMARY:Lange Nacht der Wissenschaften 2025 in Halle (Saale)
DESCRIPTION:Website: https://lndwhalle.de/\n\n \n\n\n\nAm 4. Juli 2025 ist es wieder so weit: Die Lange Nacht der Wissenschaften in Halle öffnet ihre Türen! Freuen Sie sich auf spannende Einblicke in die Welt von Forschung und Innovation. Entdecken Sie Experimente\, Vorträge und Mitmachaktionen für Jung und Alt – an zahlreichen Standorten in der Stadt. Seien Sie dabei und erleben Sie Wissenschaft hautnah! Wir freuen uns auf Ihren Besuch!\n\nOn July 4\, 2025\, it’s that time again: Lange Nacht der Wissenschaften (Long Night of Sciences) will take place in Halle.\nThis popular event is a great opportunity to present science to the public.in Halle opens its doors! Look forward to exciting insights into the world of research and innovation. Discover experiments\, lectures and hands-on activities for young and old – at numerous locations in the city. Be there and experience science up close! We look forward to your visit!\n\nDate: Friday\, 4 July 2025\nTime: 5:00 pm – 00:00 am\nLocation: Halle (Saale)\n\n\n\n\n\n\n\n\nThis year\, SNP2Prot researchers will contribute to the diverse programme with posters\, talks\, hands-on experiments\, and lab tours.\n\nFind information about SNP2Prot activities and presentations at various locations across the Weinberg Campus\, Heide-Süd Campus\, and the Botanical Garden:\n\n\n\n\nWho?\nWhat?\nWhere?\nWhen?\nDetails\n\n\nAG Quint\nMitmachprogramm: Mikroskopieren für Besucher\nBetty-Heimann-Str.\n17:00 – 22:00 Uhr\nprogramm#433\n\n\nAG Peiter\nMitmachprogramm: Können Pflanzen schwitzen?\nBetty-Heimann-Str.\n17:00 – 23:00 Uhr\nprogramm#445\n\n\nIAEW\nMitmachprogramm: Selbständige Erkundung der Schaubeete durch die Besucher\nBetty-Heimann-Str.\n17:00 – 22:00 Uhr\nprogramm/439\n\n\nDelker\, C.\nPostervortrag: Was ist CRISPR/CAS?\nBetty-Heimann-Str.\n19:00 – 20:00 Uhr\nprogramm#436\n\n\nHeilmann\, I.\nVortrag: Molekulare Pflanzenforschung: Biomembranen als Grenzflächen\nBiologicum\n19:00 – 19:45 Uhr\nprogramm#813\n\n\nKastritis\, P.\nVortrag: Visualizing the molecules of life with a cryo-electron microscope\nBiologicum\n20:00 – 20:45 Uhr\nprogramm#818\n\n\nAG Weissenborn\nMitmachprogramm: Evolution im Zeitraffer: wie wir Enzyme verbessern\nBiozentrum\n17:00 – 22:00 Uhr\nprogramm#546\n\n\nAG Kastritis\nFührung: Ein Zentrum für Kryo-EM-Forschung und Innovation\nBiozentrum\n18:00-18:30 ; 19:00-19:30; 20:00-20:30; 21:00-21:30\nprogramm#657\n\n\nIPB\nMitmachprogramm: Straße der Experimente: Mitmachprogramm für Groß und Klein\nIPB\n17:00 – 23:00 Uhr\nipb-halle.de/lndw/programm\n\n\nLaubinger\, S.\nVortrag: Neue Gentechnik auf dem Acker – Lösung für die Zukunft oder alte Fehler neu verpackt?\nBotanischer Garten\, Am Kirchtor 1\n20:00 – 21:00 Uhr\nprogramm#582\n\n\nBalbach\, J.\nVortrag: Physik-Experimente zum Staunen\nTheodor-Lieser-Straße\n19:15 – 20:00 Uhr\nprogramm#591\n\n\nGrosse\, I.\nVortrag: Schatzsuche ohne Schatzkarte – Analyse von DNA-Sequenzen\nVon-Seckendorff-Platz 1\n21:00 – 21:45 Uhr\nprogramm#416
URL:https://snp2prot.uni-halle.de/event/lange-nacht-der-wissenschaften-2025-in-halle-saale/
CATEGORIES:Others,public event
END:VEVENT
END:VCALENDAR