BEGIN:VCALENDAR
VERSION:2.0
PRODID:-//Plant Proteoform Diversity - ECPv6.15.16//NONSGML v1.0//EN
CALSCALE:GREGORIAN
METHOD:PUBLISH
X-ORIGINAL-URL:https://snp2prot.uni-halle.de
X-WR-CALDESC:Events for Plant Proteoform Diversity
REFRESH-INTERVAL;VALUE=DURATION:PT1H
X-Robots-Tag:noindex
X-PUBLISHED-TTL:PT1H
BEGIN:VTIMEZONE
TZID:Europe/Berlin
BEGIN:DAYLIGHT
TZOFFSETFROM:+0100
TZOFFSETTO:+0200
TZNAME:CEST
DTSTART:20240331T010000
END:DAYLIGHT
BEGIN:STANDARD
TZOFFSETFROM:+0200
TZOFFSETTO:+0100
TZNAME:CET
DTSTART:20241027T010000
END:STANDARD
BEGIN:DAYLIGHT
TZOFFSETFROM:+0100
TZOFFSETTO:+0200
TZNAME:CEST
DTSTART:20250330T010000
END:DAYLIGHT
BEGIN:STANDARD
TZOFFSETFROM:+0200
TZOFFSETTO:+0100
TZNAME:CET
DTSTART:20251026T010000
END:STANDARD
BEGIN:DAYLIGHT
TZOFFSETFROM:+0100
TZOFFSETTO:+0200
TZNAME:CEST
DTSTART:20260329T010000
END:DAYLIGHT
BEGIN:STANDARD
TZOFFSETFROM:+0200
TZOFFSETTO:+0100
TZNAME:CET
DTSTART:20261025T010000
END:STANDARD
END:VTIMEZONE
BEGIN:VEVENT
DTSTART;TZID=Europe/Berlin:20250602T120000
DTEND;TZID=Europe/Berlin:20250602T133000
DTSTAMP:20260422T020614
CREATED:20250325T145427Z
LAST-MODIFIED:20250520T070055Z
UID:1601-1748865600-1748871000@snp2prot.uni-halle.de
SUMMARY:Seminar - Introduction to Cryo-EM
DESCRIPTION:On 2 June 2025\, Farzad Hamdi (AG Kastritis) will present scientific training on Cryo-Electron Microscopy. \nTrainer: Farzad Hamdi\, Coop. Scientist (AG Kastritis)\nTopic: Introduction to Cryo-EM \nDate: Monday\, 2 June 2025\nTime:  12 pm – 1:30 pm\nLocation: Online \n\nThe SNP2Prot scientific training lecture series is a mandatory component of the Scientific Training within the IRTG-PROTEOFORuM. The lectures provide valuable insights into current research topics and methodologies. Recordings of the online lectures will be available on Stud.IP after the event.
URL:https://snp2prot.uni-halle.de/event/seminar-introduction-to-cryo-em/
CATEGORIES:Scientific Lectures
END:VEVENT
BEGIN:VEVENT
DTSTART;TZID=Europe/Berlin:20250616T120000
DTEND;TZID=Europe/Berlin:20250616T133000
DTSTAMP:20260422T020614
CREATED:20250326T105105Z
LAST-MODIFIED:20250326T105120Z
UID:1606-1750075200-1750080600@snp2prot.uni-halle.de
SUMMARY:Seminar - Introduction to structural mass spectrometry
DESCRIPTION:On 16 June 2025\, Andrea Sinz will present scientific training on structural mass spectrometry. \nTrainer: Andrea Sinz\, PI (projects A02\, B01 and B02)\nTopic: Introduction to structural mass spectrometry \nDate: Monday\, 16 June 2025\nTime:  12 pm – 1:30 pm\nLocation: Online \n\nThe SNP2Prot scientific training lecture series is a mandatory component of the Scientific Training within the IRTG-PROTEOFORuM. The lectures provide valuable insights into current research topics and methodologies. Recordings of the online lectures will be available on Stud.IP after the event.
URL:https://snp2prot.uni-halle.de/event/1606/
CATEGORIES:Scientific Lectures
END:VEVENT
BEGIN:VEVENT
DTSTART;TZID=Europe/Berlin:20250623T120000
DTEND;TZID=Europe/Berlin:20250623T133000
DTSTAMP:20260422T020614
CREATED:20250326T105511Z
LAST-MODIFIED:20250623T111822Z
UID:1609-1750680000-1750685400@snp2prot.uni-halle.de
SUMMARY:Seminar - Introduction to protein crystallization
DESCRIPTION:On 23 June 2025\, Milton T. Stubbs will present scientific training on protein crystallization. \nTrainer: Milton T. Stubbs\, PI (projects B05\, C02 and C03)\nTopic: Introduction to protein crystallization \nDate: Monday\, 23 June 2025\nTime:  12 pm – 1:30 pm\nLocation: Online \n\nThe SNP2Prot scientific training lecture series is a mandatory component of the Scientific Training within the IRTG-PROTEOFORuM. The lectures provide valuable insights into current research topics and methodologies. Recordings of the online lectures will be available on Stud.IP after the event.
URL:https://snp2prot.uni-halle.de/event/seminar/
CATEGORIES:Scientific Lectures
END:VEVENT
BEGIN:VEVENT
DTSTART;TZID=Europe/Berlin:20250630T120000
DTEND;TZID=Europe/Berlin:20250630T133000
DTSTAMP:20260422T020614
CREATED:20250326T105850Z
LAST-MODIFIED:20250326T105942Z
UID:1613-1751284800-1751290200@snp2prot.uni-halle.de
SUMMARY:Seminar - Introduction to NMR
DESCRIPTION:On 30 June 2025\, Jochen Balbach will present scientific training on nuclear magnetic resonance (NMR). \nTrainer: Jochen Balbach\, PI (projects A01 and B04)\nTopic: Introduction to NMR \nDate: Monday\, 30 June 2025\nTime:  12 pm – 1:30 pm\nLocation: Online \n\nThe SNP2Prot scientific training lecture series is a mandatory component of the Scientific Training within the IRTG-PROTEOFORuM. The lectures provide valuable insights into current research topics and methodologies. Recordings of the online lectures will be available on Stud.IP after the event.
URL:https://snp2prot.uni-halle.de/event/seminar-introduction-to-nmr/
CATEGORIES:Scientific Lectures
END:VEVENT
END:VCALENDAR